BEGIN:VCALENDAR
VERSION:2.0
PRODID:-//Bel Air Volunteer Fire Company - ECPv6.15.20//NONSGML v1.0//EN
CALSCALE:GREGORIAN
METHOD:PUBLISH
X-ORIGINAL-URL:https://bavfc.org
X-WR-CALDESC:Events for Bel Air Volunteer Fire Company
REFRESH-INTERVAL;VALUE=DURATION:PT1H
X-Robots-Tag:noindex
X-PUBLISHED-TTL:PT1H
BEGIN:VTIMEZONE
TZID:America/New_York
BEGIN:DAYLIGHT
TZOFFSETFROM:-0500
TZOFFSETTO:-0400
TZNAME:EDT
DTSTART:20250309T070000
END:DAYLIGHT
BEGIN:STANDARD
TZOFFSETFROM:-0400
TZOFFSETTO:-0500
TZNAME:EST
DTSTART:20251102T060000
END:STANDARD
BEGIN:DAYLIGHT
TZOFFSETFROM:-0500
TZOFFSETTO:-0400
TZNAME:EDT
DTSTART:20260308T070000
END:DAYLIGHT
BEGIN:STANDARD
TZOFFSETFROM:-0400
TZOFFSETTO:-0500
TZNAME:EST
DTSTART:20261101T060000
END:STANDARD
BEGIN:DAYLIGHT
TZOFFSETFROM:-0500
TZOFFSETTO:-0400
TZNAME:EDT
DTSTART:20270314T070000
END:DAYLIGHT
BEGIN:STANDARD
TZOFFSETFROM:-0400
TZOFFSETTO:-0500
TZNAME:EST
DTSTART:20271107T060000
END:STANDARD
END:VTIMEZONE
BEGIN:VTIMEZONE
TZID:America/New_York
BEGIN:DAYLIGHT
TZOFFSETFROM:-0500
TZOFFSETTO:-0400
TZNAME:EDT
DTSTART:20250309T070000
END:DAYLIGHT
BEGIN:STANDARD
TZOFFSETFROM:-0400
TZOFFSETTO:-0500
TZNAME:EST
DTSTART:20251102T060000
END:STANDARD
BEGIN:DAYLIGHT
TZOFFSETFROM:-0500
TZOFFSETTO:-0400
TZNAME:EDT
DTSTART:20260308T070000
END:DAYLIGHT
BEGIN:STANDARD
TZOFFSETFROM:-0400
TZOFFSETTO:-0500
TZNAME:EST
DTSTART:20261101T060000
END:STANDARD
BEGIN:DAYLIGHT
TZOFFSETFROM:-0500
TZOFFSETTO:-0400
TZNAME:EDT
DTSTART:20270314T070000
END:DAYLIGHT
BEGIN:STANDARD
TZOFFSETFROM:-0400
TZOFFSETTO:-0500
TZNAME:EST
DTSTART:20271107T060000
END:STANDARD
END:VTIMEZONE
BEGIN:VEVENT
DTSTART;TZID=America/New_York:20260509T190000
DTEND;TZID=America/New_York:20260509T220000
DTSTAMP:20260422T115220
CREATED:20260116T190211Z
LAST-MODIFIED:20260116T190211Z
UID:10003122-1778353200-1778364000@bavfc.org
SUMMARY:ENGINE COMPANY FIREGROUND OPS
DESCRIPTION:
URL:https://bavfc.org/event/engine-company-fireground-ops/2026-05-09/
END:VEVENT
BEGIN:VEVENT
DTSTART;TZID=America/New_York:20260511T190000
DTEND;TZID=America/New_York:20260511T220000
DTSTAMP:20260422T115220
CREATED:20260116T190211Z
LAST-MODIFIED:20260116T190211Z
UID:10003123-1778526000-1778536800@bavfc.org
SUMMARY:ENGINE COMPANY FIREGROUND OPS
DESCRIPTION:
URL:https://bavfc.org/event/engine-company-fireground-ops/2026-05-11/
END:VEVENT
BEGIN:VEVENT
DTSTART;TZID=America/New_York:20260513T190000
DTEND;TZID=America/New_York:20260513T220000
DTSTAMP:20260422T115220
CREATED:20260116T190211Z
LAST-MODIFIED:20260116T190211Z
UID:10003124-1778698800-1778709600@bavfc.org
SUMMARY:ENGINE COMPANY FIREGROUND OPS
DESCRIPTION:
URL:https://bavfc.org/event/engine-company-fireground-ops/2026-05-13/
END:VEVENT
BEGIN:VEVENT
DTSTART;TZID=America/New_York:20260516T190000
DTEND;TZID=America/New_York:20260516T220000
DTSTAMP:20260422T115220
CREATED:20260116T190211Z
LAST-MODIFIED:20260116T190211Z
UID:10003125-1778958000-1778968800@bavfc.org
SUMMARY:ENGINE COMPANY FIREGROUND OPS
DESCRIPTION:
URL:https://bavfc.org/event/engine-company-fireground-ops/2026-05-16/
END:VEVENT
BEGIN:VEVENT
DTSTART;TZID=America/New_York:20260521T190000
DTEND;TZID=America/New_York:20260521T220000
DTSTAMP:20260422T115220
CREATED:20190225T172423Z
LAST-MODIFIED:20190225T172423Z
UID:10002270-1779390000-1779400800@bavfc.org
SUMMARY:AUXILIARY MEETING
DESCRIPTION:
URL:https://bavfc.org/event/auxiliary-meeting-3/2026-05-21/
END:VEVENT
BEGIN:VEVENT
DTSTART;TZID=America/New_York:20260528T183000
DTEND;TZID=America/New_York:20260528T200000
DTSTAMP:20260422T115220
CREATED:20260130T144147Z
LAST-MODIFIED:20260130T144147Z
UID:10003144-1779993000-1779998400@bavfc.org
SUMMARY:OFFICERS MEETING
DESCRIPTION:
URL:https://bavfc.org/event/officers-meeting-6/2026-05-28/
END:VEVENT
BEGIN:VEVENT
DTSTART;TZID=America/New_York:20260530T120000
DTEND;TZID=America/New_York:20260530T180000
DTSTAMP:20260422T115220
CREATED:20260327T163412Z
LAST-MODIFIED:20260327T163412Z
UID:10003176-1780142400-1780164000@bavfc.org
SUMMARY:BETHANY DAVIES
DESCRIPTION:
URL:https://bavfc.org/event/bethany-davies/
END:VEVENT
BEGIN:VEVENT
DTSTART;TZID=America/New_York:20260602T190000
DTEND;TZID=America/New_York:20260602T230000
DTSTAMP:20260422T115220
CREATED:20190225T173140Z
LAST-MODIFIED:20190225T173140Z
UID:10002398-1780426800-1780441200@bavfc.org
SUMMARY:COMPANY MEETING
DESCRIPTION:
URL:https://bavfc.org/event/company-meeting-3/2026-06-02/
END:VEVENT
BEGIN:VEVENT
DTSTART;TZID=America/New_York:20260614T100000
DTEND;TZID=America/New_York:20260614T180000
DTSTAMP:20260422T115220
CREATED:20260409T192136Z
LAST-MODIFIED:20260409T192136Z
UID:10003180-1781431200-1781460000@bavfc.org
SUMMARY:MEMBER PARTY
DESCRIPTION:JOHN STANSFIELD\nROOMS 201\, 202\, 203
URL:https://bavfc.org/event/member-party-4/
END:VEVENT
BEGIN:VEVENT
DTSTART;TZID=America/New_York:20260617T190000
DTEND;TZID=America/New_York:20260617T220000
DTSTAMP:20260422T115220
CREATED:20260219T212413Z
LAST-MODIFIED:20260219T212413Z
UID:10003150-1781722800-1781733600@bavfc.org
SUMMARY:MFRI PUMPS CLASS
DESCRIPTION:ROOMS 201\, 202\, 203
URL:https://bavfc.org/event/mfri-pumps-class-3/2026-06-17/
END:VEVENT
BEGIN:VEVENT
DTSTART;TZID=America/New_York:20260618T190000
DTEND;TZID=America/New_York:20260618T220000
DTSTAMP:20260422T115220
CREATED:20190225T172423Z
LAST-MODIFIED:20190225T172423Z
UID:10002271-1781809200-1781820000@bavfc.org
SUMMARY:AUXILIARY MEETING
DESCRIPTION:
URL:https://bavfc.org/event/auxiliary-meeting-3/2026-06-18/
END:VEVENT
BEGIN:VEVENT
DTSTART;TZID=America/New_York:20260620T080000
DTEND;TZID=America/New_York:20260620T150000
DTSTAMP:20260422T115220
CREATED:20260219T212952Z
LAST-MODIFIED:20260219T212952Z
UID:10003155-1781942400-1781967600@bavfc.org
SUMMARY:MFRI PUMPS CLASS
DESCRIPTION:ROOM 201\, 202\, 203
URL:https://bavfc.org/event/mfri-pumps-class-4/2026-06-20/
END:VEVENT
BEGIN:VEVENT
DTSTART;TZID=America/New_York:20260624T190000
DTEND;TZID=America/New_York:20260624T220000
DTSTAMP:20260422T115220
CREATED:20260219T212413Z
LAST-MODIFIED:20260219T212413Z
UID:10003151-1782327600-1782338400@bavfc.org
SUMMARY:MFRI PUMPS CLASS
DESCRIPTION:ROOMS 201\, 202\, 203
URL:https://bavfc.org/event/mfri-pumps-class-3/2026-06-24/
END:VEVENT
BEGIN:VEVENT
DTSTART;TZID=America/New_York:20260625T183000
DTEND;TZID=America/New_York:20260625T200000
DTSTAMP:20260422T115220
CREATED:20260130T144147Z
LAST-MODIFIED:20260130T144147Z
UID:10003145-1782412200-1782417600@bavfc.org
SUMMARY:OFFICERS MEETING
DESCRIPTION:
URL:https://bavfc.org/event/officers-meeting-6/2026-06-25/
END:VEVENT
BEGIN:VEVENT
DTSTART;TZID=America/New_York:20260627T080000
DTEND;TZID=America/New_York:20260627T150000
DTSTAMP:20260422T115220
CREATED:20260219T212952Z
LAST-MODIFIED:20260219T212952Z
UID:10003156-1782547200-1782572400@bavfc.org
SUMMARY:MFRI PUMPS CLASS
DESCRIPTION:ROOM 201\, 202\, 203
URL:https://bavfc.org/event/mfri-pumps-class-4/2026-06-27/
END:VEVENT
BEGIN:VEVENT
DTSTART;TZID=America/New_York:20260701T190000
DTEND;TZID=America/New_York:20260701T220000
DTSTAMP:20260422T115220
CREATED:20260219T212413Z
LAST-MODIFIED:20260219T212413Z
UID:10003152-1782932400-1782943200@bavfc.org
SUMMARY:MFRI PUMPS CLASS
DESCRIPTION:ROOMS 201\, 202\, 203
URL:https://bavfc.org/event/mfri-pumps-class-3/2026-07-01/
END:VEVENT
BEGIN:VEVENT
DTSTART;TZID=America/New_York:20260704T080000
DTEND;TZID=America/New_York:20260704T150000
DTSTAMP:20260422T115220
CREATED:20260219T212952Z
LAST-MODIFIED:20260219T212952Z
UID:10003157-1783152000-1783177200@bavfc.org
SUMMARY:MFRI PUMPS CLASS
DESCRIPTION:ROOM 201\, 202\, 203
URL:https://bavfc.org/event/mfri-pumps-class-4/2026-07-04/
END:VEVENT
BEGIN:VEVENT
DTSTART;TZID=America/New_York:20260707T190000
DTEND;TZID=America/New_York:20260707T230000
DTSTAMP:20260422T115220
CREATED:20190225T173140Z
LAST-MODIFIED:20190225T173140Z
UID:10002399-1783450800-1783465200@bavfc.org
SUMMARY:COMPANY MEETING
DESCRIPTION:
URL:https://bavfc.org/event/company-meeting-3/2026-07-07/
END:VEVENT
BEGIN:VEVENT
DTSTART;TZID=America/New_York:20260708T190000
DTEND;TZID=America/New_York:20260708T220000
DTSTAMP:20260422T115220
CREATED:20260219T212413Z
LAST-MODIFIED:20260219T212413Z
UID:10003153-1783537200-1783548000@bavfc.org
SUMMARY:MFRI PUMPS CLASS
DESCRIPTION:ROOMS 201\, 202\, 203
URL:https://bavfc.org/event/mfri-pumps-class-3/2026-07-08/
END:VEVENT
BEGIN:VEVENT
DTSTART;TZID=America/New_York:20260711T080000
DTEND;TZID=America/New_York:20260711T150000
DTSTAMP:20260422T115220
CREATED:20260219T212952Z
LAST-MODIFIED:20260219T212952Z
UID:10003158-1783756800-1783782000@bavfc.org
SUMMARY:MFRI PUMPS CLASS
DESCRIPTION:ROOM 201\, 202\, 203
URL:https://bavfc.org/event/mfri-pumps-class-4/2026-07-11/
END:VEVENT
BEGIN:VEVENT
DTSTART;TZID=America/New_York:20260715T190000
DTEND;TZID=America/New_York:20260715T220000
DTSTAMP:20260422T115220
CREATED:20260219T212413Z
LAST-MODIFIED:20260219T212413Z
UID:10003154-1784142000-1784152800@bavfc.org
SUMMARY:MFRI PUMPS CLASS
DESCRIPTION:ROOMS 201\, 202\, 203
URL:https://bavfc.org/event/mfri-pumps-class-3/2026-07-15/
END:VEVENT
BEGIN:VEVENT
DTSTART;TZID=America/New_York:20260716T190000
DTEND;TZID=America/New_York:20260716T220000
DTSTAMP:20260422T115220
CREATED:20190225T172423Z
LAST-MODIFIED:20190225T172423Z
UID:10002272-1784228400-1784239200@bavfc.org
SUMMARY:AUXILIARY MEETING
DESCRIPTION:
URL:https://bavfc.org/event/auxiliary-meeting-3/2026-07-16/
END:VEVENT
BEGIN:VEVENT
DTSTART;TZID=America/New_York:20260718T080000
DTEND;TZID=America/New_York:20260718T150000
DTSTAMP:20260422T115220
CREATED:20260219T212952Z
LAST-MODIFIED:20260219T212952Z
UID:10003159-1784361600-1784386800@bavfc.org
SUMMARY:MFRI PUMPS CLASS
DESCRIPTION:ROOM 201\, 202\, 203
URL:https://bavfc.org/event/mfri-pumps-class-4/2026-07-18/
END:VEVENT
BEGIN:VEVENT
DTSTART;TZID=America/New_York:20260730T183000
DTEND;TZID=America/New_York:20260730T200000
DTSTAMP:20260422T115220
CREATED:20260130T144147Z
LAST-MODIFIED:20260130T144147Z
UID:10003146-1785436200-1785441600@bavfc.org
SUMMARY:OFFICERS MEETING
DESCRIPTION:
URL:https://bavfc.org/event/officers-meeting-6/2026-07-30/
END:VEVENT
BEGIN:VEVENT
DTSTART;TZID=America/New_York:20260804T190000
DTEND;TZID=America/New_York:20260804T230000
DTSTAMP:20260422T115220
CREATED:20190225T173140Z
LAST-MODIFIED:20190225T173140Z
UID:10002400-1785870000-1785884400@bavfc.org
SUMMARY:COMPANY MEETING
DESCRIPTION:
URL:https://bavfc.org/event/company-meeting-3/2026-08-04/
END:VEVENT
BEGIN:VEVENT
DTSTART;TZID=America/New_York:20260820T190000
DTEND;TZID=America/New_York:20260820T220000
DTSTAMP:20260422T115220
CREATED:20190225T172423Z
LAST-MODIFIED:20190225T172423Z
UID:10002273-1787252400-1787263200@bavfc.org
SUMMARY:AUXILIARY MEETING
DESCRIPTION:
URL:https://bavfc.org/event/auxiliary-meeting-3/2026-08-20/
END:VEVENT
BEGIN:VEVENT
DTSTART;TZID=America/New_York:20260822T120000
DTEND;TZID=America/New_York:20260822T180000
DTSTAMP:20260422T115220
CREATED:20260413T152724Z
LAST-MODIFIED:20260413T152724Z
UID:10003181-1787400000-1787421600@bavfc.org
SUMMARY:STRUVE PARTY
DESCRIPTION:
URL:https://bavfc.org/event/struve-party/
END:VEVENT
BEGIN:VEVENT
DTSTART;TZID=America/New_York:20260901T190000
DTEND;TZID=America/New_York:20260901T230000
DTSTAMP:20260422T115220
CREATED:20190225T173140Z
LAST-MODIFIED:20190225T173140Z
UID:10002401-1788289200-1788303600@bavfc.org
SUMMARY:COMPANY MEETING
DESCRIPTION:
URL:https://bavfc.org/event/company-meeting-3/2026-09-01/
END:VEVENT
BEGIN:VEVENT
DTSTART;TZID=America/New_York:20260917T190000
DTEND;TZID=America/New_York:20260917T220000
DTSTAMP:20260422T115220
CREATED:20190225T172423Z
LAST-MODIFIED:20190225T172423Z
UID:10002274-1789671600-1789682400@bavfc.org
SUMMARY:AUXILIARY MEETING
DESCRIPTION:
URL:https://bavfc.org/event/auxiliary-meeting-3/2026-09-17/
END:VEVENT
BEGIN:VEVENT
DTSTART;TZID=America/New_York:20261006T190000
DTEND;TZID=America/New_York:20261006T230000
DTSTAMP:20260422T115220
CREATED:20190225T173140Z
LAST-MODIFIED:20190225T173140Z
UID:10002402-1791313200-1791327600@bavfc.org
SUMMARY:COMPANY MEETING
DESCRIPTION:
URL:https://bavfc.org/event/company-meeting-3/2026-10-06/
END:VEVENT
END:VCALENDAR